BEGIN:VCALENDAR
VERSION:2.0
PRODID:-////NONSGML kigkonsult.se iCalcreator 2.22.1//
X-WR-CALNAME:Mein Kalender bei 'Age of Freelancer'
X-WR-CALDESC:Der iCal-Feed wurde automatisch erstellt von EQDKP-PLUS
X-WR-TIMEZONE:Europe/Berlin
BEGIN:VTIMEZONE
TZID:Europe/Berlin
X-LIC-LOCATION:Europe/Berlin
BEGIN:STANDARD
DTSTART:20251026T030000
TZOFFSETFROM:+0200
TZOFFSETTO:+0100
RDATE:20261025T030000
TZNAME:CET
END:STANDARD
BEGIN:DAYLIGHT
DTSTART:20260329T020000
TZOFFSETFROM:+0100
TZOFFSETTO:+0200
RDATE:20270328T020000
TZNAME:CEST
END:DAYLIGHT
END:VTIMEZONE
BEGIN:VEVENT
UID:20260420T114718UTC-3044LxuIvv@162.55.0.135
DTSTAMP:20260420T114718Z
CATEGORIES:PERSONAL
CLASS:PUBLIC
DESCRIPTION:[color=#ff0000][b]Stammraid | Regular team[/b] [/color] \n \nSt
 ammraider werden bevorzugt bestätigt \nBitte meldet euch bis Dienstagabend
  an oder ab. \nWer sich zum ersten Mal hier anmeldet: Mich kontaktieren\, 
 ich nehme niemanden mit\, von dem ich Erfahrungs- und Gearstand nicht kenn
 e. \nNeue Spieler erhalten vor der ersten Mitnahme außerhalb der Raidzeit 
 Do-Mo eine Vollerklärung in einer leeren ID. \n \nCore team members will b
 e confirmed first \nPlease sign up until tuesday evening / 24 hours prior.
  \nTo everyone signing up for the first time: Contact me\, I do not confir
 m anyone I do not know the level of experience and gear of. \nNew players 
 will get a full explanation in an empty ID from thursday to monday outside
  of the T6 raiding time. \n \n[color=#ff0000][b]Wir nutzen die [/b][/color
 ][color=#ff0000][b]DKP-Liste nicht mehr\, aber hier findet ihr immer noch 
 die Voraussetzungen / We do not use the DKP-List anymore\, but you will st
 ill find the requierements here: [/b][/color][url=https://docs.google.com/
 spreadsheets/d/12LO5wUGvsYckBIbYk1Q8zyGDbmY2b6olxKWSUdfL1oA/edit?usp=shari
 ng]KLICK[/url]
DTSTART:20260826T180000Z
DTEND:20260826T210000Z
SUMMARY:T6 - Palast von Cetriss
END:VEVENT
END:VCALENDAR
