BEGIN:VCALENDAR
VERSION:2.0
PRODID:-////NONSGML kigkonsult.se iCalcreator 2.22.1//
X-WR-CALNAME:Mein Kalender bei 'Age of Freelancer'
X-WR-CALDESC:Der iCal-Feed wurde automatisch erstellt von EQDKP-PLUS
X-WR-TIMEZONE:Europe/Berlin
BEGIN:VTIMEZONE
TZID:Europe/Berlin
X-LIC-LOCATION:Europe/Berlin
BEGIN:STANDARD
DTSTART:20251026T030000
TZOFFSETFROM:+0200
TZOFFSETTO:+0100
RDATE:20261025T030000
TZNAME:CET
END:STANDARD
BEGIN:DAYLIGHT
DTSTART:20260329T020000
TZOFFSETFROM:+0100
TZOFFSETTO:+0200
RDATE:20270328T020000
TZNAME:CEST
END:DAYLIGHT
END:VTIMEZONE
BEGIN:VEVENT
UID:20260421T181136UTC-2986p4k2vx@162.55.0.135
DTSTAMP:20260421T181136Z
CATEGORIES:PERSONAL
CLASS:PUBLIC
DESCRIPTION:Ob der Raid stattfindet\, hängt von frühen und guten Anmeldunge
 n ab. | If the raid happens depends on early and well numbered sign ups.\n
 \nStart Sheng \n \nFür diesen Raid benutzen wir Discord. Bitte lest die Ra
 khana Raidregeln&Voraussetzungen. \nEinladen ab 19:45 \n \nWe will be usin
 g discord for this raid. Please read the Rakhana raid rules/requirements. 
 \nInvites start at 7:45 p.m. (UTC+2\, Berlin) \n \n[b][url=https://docs.go
 ogle.com/spreadsheets/d/12LO5wUGvsYckBIbYk1Q8zyGDbmY2b6olxKWSUdfL1oA/edit#
 gid=1026612469]CLICK: RAKHANA RAID REGELN / RULES[/url][/b]
DTSTART:20250810T180000Z
DTEND:20250810T210000Z
SUMMARY:T4 - Jadezitadelle
END:VEVENT
END:VCALENDAR
