BEGIN:VCALENDAR
VERSION:2.0
PRODID:-////NONSGML kigkonsult.se iCalcreator 2.22.1//
X-WR-CALNAME:Mein Kalender bei 'Age of Freelancer'
X-WR-CALDESC:Der iCal-Feed wurde automatisch erstellt von EQDKP-PLUS
X-WR-TIMEZONE:Europe/Berlin
BEGIN:VTIMEZONE
TZID:Europe/Berlin
X-LIC-LOCATION:Europe/Berlin
BEGIN:STANDARD
DTSTART:20251026T030000
TZOFFSETFROM:+0200
TZOFFSETTO:+0100
RDATE:20261025T030000
TZNAME:CET
END:STANDARD
BEGIN:DAYLIGHT
DTSTART:20260329T020000
TZOFFSETFROM:+0100
TZOFFSETTO:+0200
RDATE:20270328T020000
TZNAME:CEST
END:DAYLIGHT
END:VTIMEZONE
BEGIN:VEVENT
UID:20260420T220016UTC-28888nKmi3@162.55.0.135
DTSTAMP:20260420T220016Z
CATEGORIES:PERSONAL
CLASS:PUBLIC
DESCRIPTION:Einladen ab 19.45 Uhr \n Bitte mit entsprechendem Equip und AA-
 Skills !!!\n\nInvites start 7.45 pm.\n\nToons need the required AAs.
DTSTART:20260405T180000Z
DTEND:20260405T210000Z
SUMMARY:T3\,5 - Erlik Tempel
END:VEVENT
END:VCALENDAR
