BEGIN:VCALENDAR
VERSION:2.0
PRODID:-////NONSGML kigkonsult.se iCalcreator 2.22.1//
X-WR-CALNAME:Mein Kalender bei 'Age of Freelancer'
X-WR-CALDESC:Der iCal-Feed wurde automatisch erstellt von EQDKP-PLUS
X-WR-TIMEZONE:Europe/Berlin
BEGIN:VTIMEZONE
TZID:Europe/Berlin
X-LIC-LOCATION:Europe/Berlin
BEGIN:STANDARD
DTSTART:20251026T030000
TZOFFSETFROM:+0200
TZOFFSETTO:+0100
RDATE:20261025T030000
TZNAME:CET
END:STANDARD
BEGIN:DAYLIGHT
DTSTART:20260329T020000
TZOFFSETFROM:+0100
TZOFFSETTO:+0200
RDATE:20270328T020000
TZNAME:CEST
END:DAYLIGHT
END:VTIMEZONE
BEGIN:VEVENT
UID:20260420T114816UTC-6497vxCjKF@162.55.0.135
DTSTAMP:20260420T114816Z
CATEGORIES:PERSONAL
CLASS:PUBLIC
DESCRIPTION:Für diesen Raid benutzen wir Discord. Bitte lest die Rakhana Ra
 idregeln&Voraussetzungen. \nEinladen ab 19:45\, Wir starten OBEN\n \nWe wi
 ll be using discord for this raid. Please read the Rakhana raid rules/requ
 irements. \nInvites start at 7:45 p.m. (UTC+2\, Berlin)\, we will start UP
 PER\n \n[b][url=https://docs.google.com/spreadsheets/d/12LO5wUGvsYckBIbYk1
 Q8zyGDbmY2b6olxKWSUdfL1oA/edit#gid=1026612469]CLICK: RAKHANA RAID REGELN /
  RULES[/url][/b]
DTSTART:20251026T190000Z
DTEND:20251026T220000Z
SUMMARY:T3 - Toth Amons Festung
END:VEVENT
END:VCALENDAR
