BEGIN:VCALENDAR
VERSION:2.0
PRODID:-////NONSGML kigkonsult.se iCalcreator 2.22.1//
X-WR-CALNAME:Mein Kalender bei 'Age of Freelancer'
X-WR-CALDESC:Der iCal-Feed wurde automatisch erstellt von EQDKP-PLUS
X-WR-TIMEZONE:Europe/Berlin
BEGIN:VTIMEZONE
TZID:Europe/Berlin
X-LIC-LOCATION:Europe/Berlin
BEGIN:STANDARD
DTSTART:20251026T030000
TZOFFSETFROM:+0200
TZOFFSETTO:+0100
RDATE:20261025T030000
TZNAME:CET
END:STANDARD
BEGIN:DAYLIGHT
DTSTART:20260329T020000
TZOFFSETFROM:+0100
TZOFFSETTO:+0200
RDATE:20270328T020000
TZNAME:CEST
END:DAYLIGHT
END:VTIMEZONE
BEGIN:VEVENT
UID:20260420T114820UTC-6201wGFT8r@162.55.0.135
DTSTAMP:20260420T114820Z
CATEGORIES:PERSONAL
CLASS:PUBLIC
DESCRIPTION:Start Mitte\, und dann mal gucken wie weit wir kommen\, gerne a
 lle Flügel\n\nStart W3 and then we will continue\, aiming at doing all win
 gs.
DTSTART:20251102T190000Z
DTEND:20251102T220000Z
SUMMARY:T2 komplett
END:VEVENT
END:VCALENDAR
